BEGIN:VCALENDAR
VERSION:2.0
PRODID:-//UU Wausau - ECPv6.15.20//NONSGML v1.0//EN
CALSCALE:GREGORIAN
METHOD:PUBLISH
X-ORIGINAL-URL:https://uuwausau.org
X-WR-CALDESC:Events for UU Wausau
REFRESH-INTERVAL;VALUE=DURATION:PT1H
X-Robots-Tag:noindex
X-PUBLISHED-TTL:PT1H
BEGIN:VTIMEZONE
TZID:America/Chicago
BEGIN:DAYLIGHT
TZOFFSETFROM:-0600
TZOFFSETTO:-0500
TZNAME:CDT
DTSTART:20240310T080000
END:DAYLIGHT
BEGIN:STANDARD
TZOFFSETFROM:-0500
TZOFFSETTO:-0600
TZNAME:CST
DTSTART:20241103T070000
END:STANDARD
BEGIN:DAYLIGHT
TZOFFSETFROM:-0600
TZOFFSETTO:-0500
TZNAME:CDT
DTSTART:20250309T080000
END:DAYLIGHT
BEGIN:STANDARD
TZOFFSETFROM:-0500
TZOFFSETTO:-0600
TZNAME:CST
DTSTART:20251102T070000
END:STANDARD
BEGIN:DAYLIGHT
TZOFFSETFROM:-0600
TZOFFSETTO:-0500
TZNAME:CDT
DTSTART:20260308T080000
END:DAYLIGHT
BEGIN:STANDARD
TZOFFSETFROM:-0500
TZOFFSETTO:-0600
TZNAME:CST
DTSTART:20261101T070000
END:STANDARD
END:VTIMEZONE
BEGIN:VEVENT
DTSTART;TZID=America/Chicago:20250801T080000
DTEND;TZID=America/Chicago:20250831T170000
DTSTAMP:20260420T101339
CREATED:20250722T151242Z
LAST-MODIFIED:20250722T154648Z
UID:10008734-1754035200-1756659600@uuwausau.org
SUMMARY:PB&J Drive
DESCRIPTION:Peanut butter and jelly — it’s a nutritious favorite that kids love! Help us make sure every child has a tasty lunch or snack by donating your favorite PB&J. How can you help? Simply bring your donations to the First UU Church between August 1 – 31\, 2025 (during office hours\, M-R\, 9a-2p). All contributions go to a local food pantry to support families in our community.
URL:https://uuwausau.org/event/pbj-drive/
ATTACH;FMTTYPE=image/png:https://uuwausau.org/wp-content/uploads/2025/07/PBJ-Logo-2025.png
END:VEVENT
BEGIN:VEVENT
DTSTART;TZID=America/Chicago:20250803T103000
DTEND;TZID=America/Chicago:20250803T113000
DTSTAMP:20260420T101339
CREATED:20250423T235554Z
LAST-MODIFIED:20250423T235731Z
UID:10008555-1754217000-1754220600@uuwausau.org
SUMMARY:Summer Religious Education
DESCRIPTION:This summer\, our Religious Education program brings the spirit of forest school and gratitude for the interdependent web of life right to our church grounds. Through hands-on play\, nature-based activities\, and creative exploration\, kids will deepen their connection to the natural world\, even in the middle of the city. \n\n\n\nEach session encourages children to slow down\, notice the life all around them\, and practice care\, cooperation\, and curiosity. We’ll explore\, build\, imagine\, and play – nurturing both wonder and community along the way. \n\n\n\nWe’ll gather in the lobby before heading outside. Please dress for the weather (sunscreen\, hats\, light jackets for cool mornings\, etc.). In case of rain or extreme heat\, we’ll bring the fun indoors. \n\n\n\nThis program is designed for children in Preschool through 5th grade\, but older kids are welcome too. All are invited to grow\, play\, and connect with the world around them!
URL:https://uuwausau.org/event/summer-religious-education-4/2025-08-03/
ORGANIZER;CN="Director of Religious Education":MAILTO:jessica@uuwausau.org
END:VEVENT
BEGIN:VEVENT
DTSTART;TZID=America/Chicago:20250803T103000
DTEND;TZID=America/Chicago:20250803T123000
DTSTAMP:20260420T101339
CREATED:20250728T155705Z
LAST-MODIFIED:20250730T153913Z
UID:10007563-1754217000-1754224200@uuwausau.org
SUMMARY:Sunday Worship And Glorified Coffee Hour
DESCRIPTION:Building and Engaging Our Church Community – Led by the Conflict Transformation Team\n\n\n\n\nOur diversity and differences can make us a stronger and richer congregation. The members of the newly formed Conflict Transformation Team will share information\, insights\, possibilities and resources we’ve gathered to serve our beloved church community.
URL:https://uuwausau.org/event/sunday-worship-and-glorified-coffee-hour-96/
CATEGORIES:Worship Services
ATTACH;FMTTYPE=image/png:https://uuwausau.org/wp-content/uploads/2024/06/Cover-Image-8.3.25.png
END:VEVENT
BEGIN:VEVENT
DTSTART;TZID=America/Chicago:20250804T180000
DTEND;TZID=America/Chicago:20250804T190000
DTSTAMP:20260420T101339
CREATED:20240829T134257Z
LAST-MODIFIED:20240829T134350Z
UID:10001867-1754330400-1754334000@uuwausau.org
SUMMARY:Women’s AA Meeting
DESCRIPTION:Women’s AA meets every Monday evening\, including on holidays. Please enter through the doors off of the parking lot.
URL:https://uuwausau.org/event/womens-aa-meeting-2/2025-08-04/
LOCATION:UU Wausau\, 504 Grant Street\, Wausau\, WI\, 54403\, United States
CATEGORIES:Locally Led Events
ATTACH;FMTTYPE=image/jpeg:https://uuwausau.org/wp-content/uploads/2023/08/UU-Wausau-RE4.jpg
GEO:44.96241;-89.62461
X-APPLE-STRUCTURED-LOCATION;VALUE=URI;X-ADDRESS=UU Wausau 504 Grant Street Wausau WI 54403 United States;X-APPLE-RADIUS=500;X-TITLE=504 Grant Street:geo:-89.62461,44.96241
END:VEVENT
BEGIN:VEVENT
DTSTART;TZID=America/Chicago:20250805T183000
DTEND;TZID=America/Chicago:20250805T203000
DTSTAMP:20260420T101339
CREATED:20231212T173416Z
LAST-MODIFIED:20240807T162705Z
UID:10005945-1754418600-1754425800@uuwausau.org
SUMMARY:Qi Gong · Free Class
DESCRIPTION:Join teacher Larry Riddle and others in our beautiful atrium for stretching and Qi Gong. The stretching portion of the classes lasts for about 90 minutes and is required. Beginners welcome. Wear loose-fitting clothes and flat tennis shoes\, if you have them. Classes are free and open to the public.
URL:https://uuwausau.org/event/qi-gong-%c2%b7-free-class-2/2025-08-05/
LOCATION:UU Wausau\, 504 Grant Street\, Wausau\, WI\, 54403\, United States
CATEGORIES:Locally Led Events
ATTACH;FMTTYPE=image/jpeg:https://uuwausau.org/wp-content/uploads/2023/04/DSC_0739-scaled.jpg
GEO:44.96241;-89.62461
X-APPLE-STRUCTURED-LOCATION;VALUE=URI;X-ADDRESS=UU Wausau 504 Grant Street Wausau WI 54403 United States;X-APPLE-RADIUS=500;X-TITLE=504 Grant Street:geo:-89.62461,44.96241
END:VEVENT
BEGIN:VEVENT
DTSTART;TZID=America/Chicago:20250805T190000
DTEND;TZID=America/Chicago:20250805T203000
DTSTAMP:20260420T101339
CREATED:20250613T185309Z
LAST-MODIFIED:20250613T185312Z
UID:10008413-1754420400-1754425800@uuwausau.org
SUMMARY:Creativity Matters
DESCRIPTION:This summer\, Creativity Matters invites us to explore the season through creative practice. Summer opens the door to looseness and spontaneity – longer days\, shifting routines\, and the joyful unpredictability of adventures big and small. In the midst of that playful chaos\, we’re invited to slow down and reconnect with ourselves\, with others\, and with the world around us. Creativity becomes a way to delight in the messiness\, to notice unexpected beauty\, and to celebrate how connection often shows up in surprising\, imperfect\, and wonderfully human ways. \n\n\n\n\n\n\n\n\nInterconnection\n\n\n\nAugust’s Creativity Matters theme is “Interconnection.” This month\, we’ll explore how creativity helps us notice the threads that connect us to each other\, to the world around us\, and to our own inner lives. How art invites us to see how seemingly separate pieces can come together to form something whole\, how it helps us find beauty in both our individuality and our shared belonging\, and how it reminds us that the connection between them isn’t about perfection\, it’s about honoring every part of the story. \n\n\n\n\n\n\n\nProject Options\n\n\n\nWe will have supplies for the following projects*\, or you are welcome to bring your own: \n\n\n\n\nScrap Collage: Create a collage from scraps and found materials\, and as you arrange and layer your pieces\, notice how separate elements come together to form a connected whole.\n\n\n\nPersonal Puzzle Art: Decorate blank puzzle pieces to represent the many facets of yourself – your interests\, quirks\, identities\, favorite things\, and even your rough edges. Each piece reflects how each part of your unique story connects to form the whole you.\n\n\n\nMandala Weaving: Create a vibrant mandala by weaving fabric scraps\, yarn\, and string through a plastic mesh disc. As you layer colors and textures in circular patterns\, you’ll build a design that symbolizes how individual threads come together to form a connected whole.\n\n\n\n\nDuring the summer months\, we will not have Creativity Matters packets\, but you can sign up to be part of the mailing list to start receiving them in the fall. \n\n\n\n\n\n\n\nWhat is Creativity Matters?\n\n\n\nOur Creativity Matters group helps community members engage in monthly themes and explore spiritual growth through creative expression.  \n\n\n\nIt’s all about allowing our intuition and imagination to guide us\, not just our logic and reflective minds. Think of it as making room for your right brain to dance with your left brain. \n\n\n\nCreativity Matters is a high school and adult group designed for everyone — no experience or artistic skill is required! Just bring a playful spirit and adventurous attitude.
URL:https://uuwausau.org/event/creativity-matters-interconnection/
LOCATION:UU Wausau\, 504 Grant Street\, Wausau\, WI\, 54403\, United States
CATEGORIES:Adult Religious Education,Youth Religious Education
ATTACH;FMTTYPE=image/jpeg:https://uuwausau.org/wp-content/uploads/2023/08/creative-matters-feature-scaled.jpg
ORGANIZER;CN="Director of Religious Education":MAILTO:jessica@uuwausau.org
GEO:44.96241;-89.62461
X-APPLE-STRUCTURED-LOCATION;VALUE=URI;X-ADDRESS=UU Wausau 504 Grant Street Wausau WI 54403 United States;X-APPLE-RADIUS=500;X-TITLE=504 Grant Street:geo:-89.62461,44.96241
END:VEVENT
BEGIN:VEVENT
DTSTART;TZID=America/Chicago:20250806T100000
DTEND;TZID=America/Chicago:20250806T120000
DTSTAMP:20260420T101339
CREATED:20231116T153302Z
LAST-MODIFIED:20241211T162626Z
UID:10003951-1754474400-1754481600@uuwausau.org
SUMMARY:Weekly Knitting Group
DESCRIPTION:Discover the joy of knitting and the warmth of community by joining our Weekly Knitting Group. All are invited\, whether you’re a seasoned knitter or a complete novice. Bring your own knitting projects and let your creativity flow in the company of kindred spirits.  \n\n\n\nIt’s not just about crafting but forging connections\, sharing stories\, and supporting one another. Knitting has a way of bringing comfort\, both through the soothing rhythm of stitches and the bonds we build along the way.  \n\n\n\nCome join us in Walker Hall (upstairs) and be a part of this wonderful group\, where your skills and passion are celebrated\, and where every stitch is an opportunity to knit our community closer together.
URL:https://uuwausau.org/event/weekly-knitting-group-2/2025-08-06/
LOCATION:UU Wausau\, 504 Grant Street\, Wausau\, WI\, 54403\, United States
CATEGORIES:Locally Led Events
ATTACH;FMTTYPE=image/jpeg:https://uuwausau.org/wp-content/uploads/2023/09/knitting-club.jpg
GEO:44.96241;-89.62461
X-APPLE-STRUCTURED-LOCATION;VALUE=URI;X-ADDRESS=UU Wausau 504 Grant Street Wausau WI 54403 United States;X-APPLE-RADIUS=500;X-TITLE=504 Grant Street:geo:-89.62461,44.96241
END:VEVENT
BEGIN:VEVENT
DTSTART;TZID=America/Chicago:20250806T120000
DTEND;TZID=America/Chicago:20250806T130000
DTSTAMP:20260420T101339
CREATED:20230928T211131Z
LAST-MODIFIED:20230928T211134Z
UID:10004217-1754481600-1754485200@uuwausau.org
SUMMARY:The Noon Swoon
DESCRIPTION:You’re invited to be part of our weekly gathering\, where we dive into the thought-provoking world of The New Yorker magazine.  \n\n\n\nJoin us during the lunch hour as we unpack the pages of the previous week’s issue\, sparking vibrant discussions and sharing diverse perspectives.  \n\n\n\nWhether you’re a devoted reader or simply curious about engaging with insightful content\, this is the perfect opportunity to connect\, learn\, and expand your horizons.  \n\n\n\nBring your lunch\, your inquisitive spirit\, and a hunger for stimulating conversation. We look forward to welcoming you to this enriching experience.
URL:https://uuwausau.org/event/the-noon-swoon/2025-08-06/
LOCATION:UU Wausau\, 504 Grant Street\, Wausau\, WI\, 54403\, United States
CATEGORIES:Locally Led Events
ATTACH;FMTTYPE=image/png:https://uuwausau.org/wp-content/uploads/2023/09/UU-Wausau1-2.png
GEO:44.96241;-89.62461
X-APPLE-STRUCTURED-LOCATION;VALUE=URI;X-ADDRESS=UU Wausau 504 Grant Street Wausau WI 54403 United States;X-APPLE-RADIUS=500;X-TITLE=504 Grant Street:geo:-89.62461,44.96241
END:VEVENT
BEGIN:VEVENT
DTSTART;TZID=America/Chicago:20250807T183000
DTEND;TZID=America/Chicago:20250807T213000
DTSTAMP:20260420T101339
CREATED:20231212T174419Z
LAST-MODIFIED:20260414T231951Z
UID:10001547-1754591400-1754602200@uuwausau.org
SUMMARY:Tai Chi · Free Class
DESCRIPTION:Join teacher Larry Riddle and others in our beautiful atrium for stretching and Tai Chi. The stretching portion of the class lasts about 90 minutes and is required. Beginners are welcome. Wear loose-fitting clothing and flat tennis shoes\, if you have them. Classes are free and open to the public.
URL:https://uuwausau.org/event/tai-chi-%c2%b7-free-class-2/2025-08-07/
LOCATION:UU Wausau\, 504 Grant Street\, Wausau\, WI\, 54403\, United States
CATEGORIES:Locally Led Events
ATTACH;FMTTYPE=image/jpeg:https://uuwausau.org/wp-content/uploads/2023/07/UU-Wausau-RE1.jpg
GEO:44.96241;-89.62461
X-APPLE-STRUCTURED-LOCATION;VALUE=URI;X-ADDRESS=UU Wausau 504 Grant Street Wausau WI 54403 United States;X-APPLE-RADIUS=500;X-TITLE=504 Grant Street:geo:-89.62461,44.96241
END:VEVENT
BEGIN:VEVENT
DTSTART;TZID=America/Chicago:20250809T180000
DTEND;TZID=America/Chicago:20250809T210000
DTSTAMP:20260420T101339
CREATED:20250613T201828Z
LAST-MODIFIED:20250613T202732Z
UID:10008603-1754762400-1754773200@uuwausau.org
SUMMARY:Dinners for 9
DESCRIPTION:Join us for Dinners for 9\, an evening of delicious food and meaningful conversation designed specifically for adults to connect\, beyond surface-level socializing and small talk. These intimate gatherings bring together nine people for a shared meal and guided small group conversation\, offering a wonderful opportunity to nourish both body and soul. \n\n\n\n\n\n\n\nSummer Dinner for 9 Dates: \n\n\n\n\nFriday\, July 18 at 6 PMLocation: the historic DC Evervest mansion. Theme: Community\n\n\n\nSaturday\, August 9 at 6 PMLocation: lakeside home on Lake Dubay Theme: TBD\n\n\n\n\n\n\n\n\nRegistration is required. \n\n\n\n\nSign Up Here
URL:https://uuwausau.org/event/dinners-for-9-2/2025-08-09/
CATEGORIES:Adult Religious Education
ATTACH;FMTTYPE=image/png:https://uuwausau.org/wp-content/uploads/2025/06/DInners-for-9-5.png
ORGANIZER;CN="Director of Religious Education":MAILTO:jessica@uuwausau.org
END:VEVENT
END:VCALENDAR