BEGIN:VCALENDAR
VERSION:2.0
PRODID:-//UU Wausau - ECPv6.15.20//NONSGML v1.0//EN
CALSCALE:GREGORIAN
METHOD:PUBLISH
X-WR-CALNAME:UU Wausau
X-ORIGINAL-URL:https://uuwausau.org
X-WR-CALDESC:Events for UU Wausau
REFRESH-INTERVAL;VALUE=DURATION:PT1H
X-Robots-Tag:noindex
X-PUBLISHED-TTL:PT1H
BEGIN:VTIMEZONE
TZID:America/Chicago
BEGIN:DAYLIGHT
TZOFFSETFROM:-0600
TZOFFSETTO:-0500
TZNAME:CDT
DTSTART:20230312T080000
END:DAYLIGHT
BEGIN:STANDARD
TZOFFSETFROM:-0500
TZOFFSETTO:-0600
TZNAME:CST
DTSTART:20231105T070000
END:STANDARD
BEGIN:DAYLIGHT
TZOFFSETFROM:-0600
TZOFFSETTO:-0500
TZNAME:CDT
DTSTART:20240310T080000
END:DAYLIGHT
BEGIN:STANDARD
TZOFFSETFROM:-0500
TZOFFSETTO:-0600
TZNAME:CST
DTSTART:20241103T070000
END:STANDARD
BEGIN:DAYLIGHT
TZOFFSETFROM:-0600
TZOFFSETTO:-0500
TZNAME:CDT
DTSTART:20250309T080000
END:DAYLIGHT
BEGIN:STANDARD
TZOFFSETFROM:-0500
TZOFFSETTO:-0600
TZNAME:CST
DTSTART:20251102T070000
END:STANDARD
END:VTIMEZONE
BEGIN:VEVENT
DTSTART;TZID=America/Chicago:20240804T103000
DTEND;TZID=America/Chicago:20240804T113000
DTSTAMP:20260420T070840
CREATED:20240627T182644Z
LAST-MODIFIED:20240807T160919Z
UID:10006944-1722767400-1722771000@uuwausau.org
SUMMARY:Summer Religious Education
DESCRIPTION:This Summer\, running June 16 – August 25\, our Sunday morning Religious Education (RE) sessions are all about getting outside and playing! This year we are focusing on using our imaginations to build\, create\, and explore. Session themes include blanket forts\, fairy houses\, paper airplanes\, a scavenger hunt field trip\, obstacle courses\, and more! \n\n\n\nThe group will meet in the lobby on Sundays at 10:30 am. Children should come dressed for the weather (sunscreen\, hat\, light jacket for chilly mornings\, etc.)\, and in inclement weather\, we will move our play indoors. \n\n\n\nSummer RE is geared for kids in preschool – 5th grade but is open to older children. \n\n\n\nThemes: \n\n\n\n\nJune 16: Game Day\n\n\n\nJune 23: Fairy Houses\n\n\n\nJune 30: Paper Airplanes\n\n\n\nJuly 7: Parachute Games\n\n\n\nJuly 14: Scavenger Hunt (start/end at Yawkey Gardens)\n\n\n\nJuly 21: Blanket Forts\n\n\n\nJuly 28: Body Percussion\n\n\n\nAugust 4: Obstacle Course\n\n\n\nAugust 11: Junk Sculptures\n\n\n\nAugust 18: Bubbles\n\n\n\nAugust 25: Mini Golf
URL:https://uuwausau.org/event/summer-religious-education-2/2024-08-04/
CATEGORIES:Children & Families,Elementary RE
ATTACH;FMTTYPE=image/png:https://uuwausau.org/wp-content/uploads/2024/06/Beige-minimalist-photo-collage-1.png
ORGANIZER;CN="Director of Religious Education":MAILTO:jessica@uuwausau.org
END:VEVENT
BEGIN:VEVENT
DTSTART;TZID=America/Chicago:20240804T103000
DTEND;TZID=America/Chicago:20240804T123000
DTSTAMP:20260420T070840
CREATED:20240801T160843Z
LAST-MODIFIED:20240808T140450Z
UID:10007520-1722767400-1722774600@uuwausau.org
SUMMARY:Sunday Worship And Glorified Coffee Hour
DESCRIPTION:Sabbath Rhythms – The Rev. Brian Mason\, preaching\n\n\n\n \n\n\n\nWe welcome you to worship with us this Sunday at 10:30 AM! We rejoice and grow together through shared ministry\, meditation\, and music.  \n\n\n\n\n \n\n\n\n\nJoin Us On Sundays For Services That Inform & Inspire\n\n\n\nSermons at UU Wausau encompass many topics\, but always with the intent of cultivating dialogue and fostering growth. On any given Sunday\, you will hear a sermon that stimulates your thinking about life\, opens a new perspective on the Bible\, or speaks to the state of the world with words of hope or healing. Join us Sunday in person as we worship together.
URL:https://uuwausau.org/event/sunday-worship-and-glorified-coffee-hour-45/
LOCATION:UU Wausau\, 504 Grant Street\, Wausau\, WI\, 54403\, United States
CATEGORIES:Worship Services
ATTACH;FMTTYPE=image/jpeg:https://uuwausau.org/wp-content/uploads/2024/08/Sabbath-Rhythms-Service-Graphic-scaled.jpg
GEO:44.96241;-89.62461
X-APPLE-STRUCTURED-LOCATION;VALUE=URI;X-ADDRESS=UU Wausau 504 Grant Street Wausau WI 54403 United States;X-APPLE-RADIUS=500;X-TITLE=504 Grant Street:geo:-89.62461,44.96241
END:VEVENT
BEGIN:VEVENT
DTSTART;TZID=America/Chicago:20240805T180000
DTEND;TZID=America/Chicago:20240805T190000
DTSTAMP:20260420T070840
CREATED:20230802T165932Z
LAST-MODIFIED:20230815T224116Z
UID:10001815-1722880800-1722884400@uuwausau.org
SUMMARY:Women’s AA Meeting
DESCRIPTION:Women’s AA meets every Monday evening. Please enter through the doors off of the parking lot.
URL:https://uuwausau.org/event/womens-aa-meeting/2024-08-05/
LOCATION:UU Wausau\, 504 Grant Street\, Wausau\, WI\, 54403\, United States
CATEGORIES:Locally Led Events
ATTACH;FMTTYPE=image/jpeg:https://uuwausau.org/wp-content/uploads/2023/08/UU-Wausau-RE4.jpg
GEO:44.96241;-89.62461
X-APPLE-STRUCTURED-LOCATION;VALUE=URI;X-ADDRESS=UU Wausau 504 Grant Street Wausau WI 54403 United States;X-APPLE-RADIUS=500;X-TITLE=504 Grant Street:geo:-89.62461,44.96241
END:VEVENT
BEGIN:VEVENT
DTSTART;TZID=America/Chicago:20240806T183000
DTEND;TZID=America/Chicago:20240806T203000
DTSTAMP:20260420T070840
CREATED:20231212T173416Z
LAST-MODIFIED:20240807T162705Z
UID:10005893-1722969000-1722976200@uuwausau.org
SUMMARY:Qi Gong · Free Class
DESCRIPTION:Join teacher Larry Riddle and others in our beautiful atrium for stretching and Qi Gong. The stretching portion of the classes lasts for about 90 minutes and is required. Beginners welcome. Wear loose-fitting clothes and flat tennis shoes\, if you have them. Classes are free and open to the public.
URL:https://uuwausau.org/event/qi-gong-%c2%b7-free-class-2/2024-08-06/
LOCATION:UU Wausau\, 504 Grant Street\, Wausau\, WI\, 54403\, United States
CATEGORIES:Locally Led Events
ATTACH;FMTTYPE=image/jpeg:https://uuwausau.org/wp-content/uploads/2023/04/DSC_0739-scaled.jpg
GEO:44.96241;-89.62461
X-APPLE-STRUCTURED-LOCATION;VALUE=URI;X-ADDRESS=UU Wausau 504 Grant Street Wausau WI 54403 United States;X-APPLE-RADIUS=500;X-TITLE=504 Grant Street:geo:-89.62461,44.96241
END:VEVENT
BEGIN:VEVENT
DTSTART;TZID=America/Chicago:20240807T100000
DTEND;TZID=America/Chicago:20240807T120000
DTSTAMP:20260420T070840
CREATED:20231116T153302Z
LAST-MODIFIED:20241211T162626Z
UID:10003899-1723024800-1723032000@uuwausau.org
SUMMARY:Weekly Knitting Group
DESCRIPTION:Discover the joy of knitting and the warmth of community by joining our Weekly Knitting Group. All are invited\, whether you’re a seasoned knitter or a complete novice. Bring your own knitting projects and let your creativity flow in the company of kindred spirits.  \n\n\n\nIt’s not just about crafting but forging connections\, sharing stories\, and supporting one another. Knitting has a way of bringing comfort\, both through the soothing rhythm of stitches and the bonds we build along the way.  \n\n\n\nCome join us in Walker Hall (upstairs) and be a part of this wonderful group\, where your skills and passion are celebrated\, and where every stitch is an opportunity to knit our community closer together.
URL:https://uuwausau.org/event/weekly-knitting-group-2/2024-08-07/
LOCATION:UU Wausau\, 504 Grant Street\, Wausau\, WI\, 54403\, United States
CATEGORIES:Locally Led Events
ATTACH;FMTTYPE=image/jpeg:https://uuwausau.org/wp-content/uploads/2023/09/knitting-club.jpg
GEO:44.96241;-89.62461
X-APPLE-STRUCTURED-LOCATION;VALUE=URI;X-ADDRESS=UU Wausau 504 Grant Street Wausau WI 54403 United States;X-APPLE-RADIUS=500;X-TITLE=504 Grant Street:geo:-89.62461,44.96241
END:VEVENT
BEGIN:VEVENT
DTSTART;TZID=America/Chicago:20240807T120000
DTEND;TZID=America/Chicago:20240807T130000
DTSTAMP:20260420T070840
CREATED:20230928T211131Z
LAST-MODIFIED:20230928T211134Z
UID:10004165-1723032000-1723035600@uuwausau.org
SUMMARY:The Noon Swoon
DESCRIPTION:You’re invited to be part of our weekly gathering\, where we dive into the thought-provoking world of The New Yorker magazine.  \n\n\n\nJoin us during the lunch hour as we unpack the pages of the previous week’s issue\, sparking vibrant discussions and sharing diverse perspectives.  \n\n\n\nWhether you’re a devoted reader or simply curious about engaging with insightful content\, this is the perfect opportunity to connect\, learn\, and expand your horizons.  \n\n\n\nBring your lunch\, your inquisitive spirit\, and a hunger for stimulating conversation. We look forward to welcoming you to this enriching experience.
URL:https://uuwausau.org/event/the-noon-swoon/2024-08-07/
LOCATION:UU Wausau\, 504 Grant Street\, Wausau\, WI\, 54403\, United States
CATEGORIES:Locally Led Events
ATTACH;FMTTYPE=image/png:https://uuwausau.org/wp-content/uploads/2023/09/UU-Wausau1-2.png
GEO:44.96241;-89.62461
X-APPLE-STRUCTURED-LOCATION;VALUE=URI;X-ADDRESS=UU Wausau 504 Grant Street Wausau WI 54403 United States;X-APPLE-RADIUS=500;X-TITLE=504 Grant Street:geo:-89.62461,44.96241
END:VEVENT
BEGIN:VEVENT
DTSTART;TZID=America/Chicago:20240808T183000
DTEND;TZID=America/Chicago:20240808T213000
DTSTAMP:20260420T070840
CREATED:20231212T174419Z
LAST-MODIFIED:20260414T231951Z
UID:10001495-1723141800-1723152600@uuwausau.org
SUMMARY:Tai Chi · Free Class
DESCRIPTION:Join teacher Larry Riddle and others in our beautiful atrium for stretching and Tai Chi. The stretching portion of the class lasts about 90 minutes and is required. Beginners are welcome. Wear loose-fitting clothing and flat tennis shoes\, if you have them. Classes are free and open to the public.
URL:https://uuwausau.org/event/tai-chi-%c2%b7-free-class-2/2024-08-08/
LOCATION:UU Wausau\, 504 Grant Street\, Wausau\, WI\, 54403\, United States
CATEGORIES:Locally Led Events
ATTACH;FMTTYPE=image/jpeg:https://uuwausau.org/wp-content/uploads/2023/07/UU-Wausau-RE1.jpg
GEO:44.96241;-89.62461
X-APPLE-STRUCTURED-LOCATION;VALUE=URI;X-ADDRESS=UU Wausau 504 Grant Street Wausau WI 54403 United States;X-APPLE-RADIUS=500;X-TITLE=504 Grant Street:geo:-89.62461,44.96241
END:VEVENT
END:VCALENDAR