BEGIN:VCALENDAR
VERSION:2.0
PRODID:-//UU Wausau - ECPv6.15.20//NONSGML v1.0//EN
CALSCALE:GREGORIAN
METHOD:PUBLISH
X-ORIGINAL-URL:https://uuwausau.org
X-WR-CALDESC:Events for UU Wausau
REFRESH-INTERVAL;VALUE=DURATION:PT1H
X-Robots-Tag:noindex
X-PUBLISHED-TTL:PT1H
BEGIN:VTIMEZONE
TZID:America/Chicago
BEGIN:DAYLIGHT
TZOFFSETFROM:-0600
TZOFFSETTO:-0500
TZNAME:CDT
DTSTART:20250309T080000
END:DAYLIGHT
BEGIN:STANDARD
TZOFFSETFROM:-0500
TZOFFSETTO:-0600
TZNAME:CST
DTSTART:20251102T070000
END:STANDARD
BEGIN:DAYLIGHT
TZOFFSETFROM:-0600
TZOFFSETTO:-0500
TZNAME:CDT
DTSTART:20260308T080000
END:DAYLIGHT
BEGIN:STANDARD
TZOFFSETFROM:-0500
TZOFFSETTO:-0600
TZNAME:CST
DTSTART:20261101T070000
END:STANDARD
BEGIN:DAYLIGHT
TZOFFSETFROM:-0600
TZOFFSETTO:-0500
TZNAME:CDT
DTSTART:20270314T080000
END:DAYLIGHT
BEGIN:STANDARD
TZOFFSETFROM:-0500
TZOFFSETTO:-0600
TZNAME:CST
DTSTART:20271107T070000
END:STANDARD
BEGIN:DAYLIGHT
TZOFFSETFROM:-0600
TZOFFSETTO:-0500
TZNAME:CDT
DTSTART:20280312T080000
END:DAYLIGHT
BEGIN:STANDARD
TZOFFSETFROM:-0500
TZOFFSETTO:-0600
TZNAME:CST
DTSTART:20281105T070000
END:STANDARD
END:VTIMEZONE
BEGIN:VEVENT
DTSTART;TZID=America/Chicago:20261224T190000
DTEND;TZID=America/Chicago:20261224T203000
DTSTAMP:20260424T045036
CREATED:20230922T171929Z
LAST-MODIFIED:20230922T204745Z
UID:10002490-1798138800-1798144200@uuwausau.org
SUMMARY:Christmas Eve Candlelight Service
DESCRIPTION:Sermon Summary\n\n\n\nJoin us on Christmas Eve for a truly special Candlelight Service. Our evening will begin with an inspiring sermon\, guiding us to reflect on the universal themes of compassion\, unity\, and joy.  \n\n\n\nAs we gather in the soft\, flickering glow of candlelight\, our hearts will fill with celebration and a sense of community\, culminating in the timeless beauty of our congregation singing “Silent Night.” During this poignant moment\, we will pass a single flame from hand to hand\, symbolizing the interconnectedness of our lives and the enduring light of hope that binds us together.  \n\n\n\nCome and experience the warmth and togetherness that define the holiday season this Christmas Eve as we embrace the true spirit of universal unity. We look forward to sharing this meaningful night with you and your loved ones. \n\n\n\n\n\n\n\n\n\n\n\n\n\n\n\nJoin Us On Sundays For Services That Inform & Inspire\n\n\n\nSermons at UU Wausau encompass many topics\, but always with the intent of cultivating dialogue and fostering growth. On any given Sunday\, you will hear a sermon that stimulates your thinking about life\, opens a new perspective on the Bible\, or speaks to the state of the world with words of hope or healing. Join us Sunday in person as we worship together.
URL:https://uuwausau.org/event/christmas-eve-candlelight-service/2026-12-24/
LOCATION:UU Wausau\, 504 Grant Street\, Wausau\, WI\, 54403\, United States
CATEGORIES:Worship Services
ATTACH;FMTTYPE=image/png:https://uuwausau.org/wp-content/uploads/2023/09/UU-Wausau-Event11.png
GEO:44.96241;-89.62461
X-APPLE-STRUCTURED-LOCATION;VALUE=URI;X-ADDRESS=UU Wausau 504 Grant Street Wausau WI 54403 United States;X-APPLE-RADIUS=500;X-TITLE=504 Grant Street:geo:-89.62461,44.96241
END:VEVENT
BEGIN:VEVENT
DTSTART;TZID=America/Chicago:20271224T190000
DTEND;TZID=America/Chicago:20271224T203000
DTSTAMP:20260424T045036
CREATED:20230922T171929Z
LAST-MODIFIED:20230922T204745Z
UID:10002491-1829674800-1829680200@uuwausau.org
SUMMARY:Christmas Eve Candlelight Service
DESCRIPTION:Sermon Summary\n\n\n\nJoin us on Christmas Eve for a truly special Candlelight Service. Our evening will begin with an inspiring sermon\, guiding us to reflect on the universal themes of compassion\, unity\, and joy.  \n\n\n\nAs we gather in the soft\, flickering glow of candlelight\, our hearts will fill with celebration and a sense of community\, culminating in the timeless beauty of our congregation singing “Silent Night.” During this poignant moment\, we will pass a single flame from hand to hand\, symbolizing the interconnectedness of our lives and the enduring light of hope that binds us together.  \n\n\n\nCome and experience the warmth and togetherness that define the holiday season this Christmas Eve as we embrace the true spirit of universal unity. We look forward to sharing this meaningful night with you and your loved ones. \n\n\n\n\n\n\n\n\n\n\n\n\n\n\n\nJoin Us On Sundays For Services That Inform & Inspire\n\n\n\nSermons at UU Wausau encompass many topics\, but always with the intent of cultivating dialogue and fostering growth. On any given Sunday\, you will hear a sermon that stimulates your thinking about life\, opens a new perspective on the Bible\, or speaks to the state of the world with words of hope or healing. Join us Sunday in person as we worship together.
URL:https://uuwausau.org/event/christmas-eve-candlelight-service/2027-12-24/
LOCATION:UU Wausau\, 504 Grant Street\, Wausau\, WI\, 54403\, United States
CATEGORIES:Worship Services
ATTACH;FMTTYPE=image/png:https://uuwausau.org/wp-content/uploads/2023/09/UU-Wausau-Event11.png
GEO:44.96241;-89.62461
X-APPLE-STRUCTURED-LOCATION;VALUE=URI;X-ADDRESS=UU Wausau 504 Grant Street Wausau WI 54403 United States;X-APPLE-RADIUS=500;X-TITLE=504 Grant Street:geo:-89.62461,44.96241
END:VEVENT
END:VCALENDAR