BEGIN:VCALENDAR
VERSION:2.0
PRODID:-//UU Wausau - ECPv6.15.20//NONSGML v1.0//EN
CALSCALE:GREGORIAN
METHOD:PUBLISH
X-ORIGINAL-URL:https://uuwausau.org
X-WR-CALDESC:Events for UU Wausau
REFRESH-INTERVAL;VALUE=DURATION:PT1H
X-Robots-Tag:noindex
X-PUBLISHED-TTL:PT1H
BEGIN:VTIMEZONE
TZID:America/Chicago
BEGIN:DAYLIGHT
TZOFFSETFROM:-0600
TZOFFSETTO:-0500
TZNAME:CDT
DTSTART:20220313T080000
END:DAYLIGHT
BEGIN:STANDARD
TZOFFSETFROM:-0500
TZOFFSETTO:-0600
TZNAME:CST
DTSTART:20221106T070000
END:STANDARD
BEGIN:DAYLIGHT
TZOFFSETFROM:-0600
TZOFFSETTO:-0500
TZNAME:CDT
DTSTART:20230312T080000
END:DAYLIGHT
BEGIN:STANDARD
TZOFFSETFROM:-0500
TZOFFSETTO:-0600
TZNAME:CST
DTSTART:20231105T070000
END:STANDARD
BEGIN:DAYLIGHT
TZOFFSETFROM:-0600
TZOFFSETTO:-0500
TZNAME:CDT
DTSTART:20240310T080000
END:DAYLIGHT
BEGIN:STANDARD
TZOFFSETFROM:-0500
TZOFFSETTO:-0600
TZNAME:CST
DTSTART:20241103T070000
END:STANDARD
END:VTIMEZONE
BEGIN:VEVENT
DTSTART;TZID=America/Chicago:20230706T183000
DTEND;TZID=America/Chicago:20230706T213000
DTSTAMP:20260423T170548
CREATED:20230731T222109Z
LAST-MODIFIED:20230815T223729Z
UID:10001438-1688668200-1688679000@uuwausau.org
SUMMARY:Tai Chi · Free Class
DESCRIPTION:Join teacher Larry Riddle and others in our beautiful atrium for stretching and Tai Chi. The stretching portion of the class lasts about 90 minutes and is required. Beginners are welcome. Wear loose-fitting clothing and flat tennis shoes\, if you have them. Classes are free and open to the public.
URL:https://uuwausau.org/event/tai-chi-%c2%b7-free-class/2023-07-06/
LOCATION:UU Wausau\, 504 Grant Street\, Wausau\, WI\, 54403\, United States
CATEGORIES:Locally Led Events
ATTACH;FMTTYPE=image/jpeg:https://uuwausau.org/wp-content/uploads/2023/07/UU-Wausau-RE1.jpg
GEO:44.96241;-89.62461
X-APPLE-STRUCTURED-LOCATION;VALUE=URI;X-ADDRESS=UU Wausau 504 Grant Street Wausau WI 54403 United States;X-APPLE-RADIUS=500;X-TITLE=504 Grant Street:geo:-89.62461,44.96241
END:VEVENT
BEGIN:VEVENT
DTSTART;TZID=America/Chicago:20230713T183000
DTEND;TZID=America/Chicago:20230713T213000
DTSTAMP:20260423T170548
CREATED:20230731T222109Z
LAST-MODIFIED:20230815T223729Z
UID:10001439-1689273000-1689283800@uuwausau.org
SUMMARY:Tai Chi · Free Class
DESCRIPTION:Join teacher Larry Riddle and others in our beautiful atrium for stretching and Tai Chi. The stretching portion of the class lasts about 90 minutes and is required. Beginners are welcome. Wear loose-fitting clothing and flat tennis shoes\, if you have them. Classes are free and open to the public.
URL:https://uuwausau.org/event/tai-chi-%c2%b7-free-class/2023-07-13/
LOCATION:UU Wausau\, 504 Grant Street\, Wausau\, WI\, 54403\, United States
CATEGORIES:Locally Led Events
ATTACH;FMTTYPE=image/jpeg:https://uuwausau.org/wp-content/uploads/2023/07/UU-Wausau-RE1.jpg
GEO:44.96241;-89.62461
X-APPLE-STRUCTURED-LOCATION;VALUE=URI;X-ADDRESS=UU Wausau 504 Grant Street Wausau WI 54403 United States;X-APPLE-RADIUS=500;X-TITLE=504 Grant Street:geo:-89.62461,44.96241
END:VEVENT
BEGIN:VEVENT
DTSTART;TZID=America/Chicago:20230715T080000
DTEND;TZID=America/Chicago:20230715T090000
DTSTAMP:20260423T170548
CREATED:20230802T170937Z
LAST-MODIFIED:20230815T224429Z
UID:10002084-1689408000-1689411600@uuwausau.org
SUMMARY:Women's Early Risers
DESCRIPTION:Women’s Early Risers is a social group that meets monthly for breakfast and companionship. Any interested women are invited to join – UU or not!  \n\n\n\nFor more information\, contact Sharon Faville at 715-355-3754 or sjfaville@yahoo.com.
URL:https://uuwausau.org/event/womens-early-risers/2023-07-15/
LOCATION:UU Wausau\, 504 Grant Street\, Wausau\, WI\, 54403\, United States
CATEGORIES:Congregation Led Gatherings
ATTACH;FMTTYPE=image/jpeg:https://uuwausau.org/wp-content/uploads/2023/08/sunrise-scaled.jpg
ORGANIZER;CN="Sharon Faville":MAILTO:sjfaville@yahoo.com
GEO:44.96241;-89.62461
X-APPLE-STRUCTURED-LOCATION;VALUE=URI;X-ADDRESS=UU Wausau 504 Grant Street Wausau WI 54403 United States;X-APPLE-RADIUS=500;X-TITLE=504 Grant Street:geo:-89.62461,44.96241
END:VEVENT
BEGIN:VEVENT
DTSTART;TZID=America/Chicago:20230720T183000
DTEND;TZID=America/Chicago:20230720T213000
DTSTAMP:20260423T170548
CREATED:20230731T222109Z
LAST-MODIFIED:20230815T223729Z
UID:10001440-1689877800-1689888600@uuwausau.org
SUMMARY:Tai Chi · Free Class
DESCRIPTION:Join teacher Larry Riddle and others in our beautiful atrium for stretching and Tai Chi. The stretching portion of the class lasts about 90 minutes and is required. Beginners are welcome. Wear loose-fitting clothing and flat tennis shoes\, if you have them. Classes are free and open to the public.
URL:https://uuwausau.org/event/tai-chi-%c2%b7-free-class/2023-07-20/
LOCATION:UU Wausau\, 504 Grant Street\, Wausau\, WI\, 54403\, United States
CATEGORIES:Locally Led Events
ATTACH;FMTTYPE=image/jpeg:https://uuwausau.org/wp-content/uploads/2023/07/UU-Wausau-RE1.jpg
GEO:44.96241;-89.62461
X-APPLE-STRUCTURED-LOCATION;VALUE=URI;X-ADDRESS=UU Wausau 504 Grant Street Wausau WI 54403 United States;X-APPLE-RADIUS=500;X-TITLE=504 Grant Street:geo:-89.62461,44.96241
END:VEVENT
BEGIN:VEVENT
DTSTART;TZID=America/Chicago:20230727T183000
DTEND;TZID=America/Chicago:20230727T213000
DTSTAMP:20260423T170548
CREATED:20230731T222109Z
LAST-MODIFIED:20230815T223729Z
UID:10001441-1690482600-1690493400@uuwausau.org
SUMMARY:Tai Chi · Free Class
DESCRIPTION:Join teacher Larry Riddle and others in our beautiful atrium for stretching and Tai Chi. The stretching portion of the class lasts about 90 minutes and is required. Beginners are welcome. Wear loose-fitting clothing and flat tennis shoes\, if you have them. Classes are free and open to the public.
URL:https://uuwausau.org/event/tai-chi-%c2%b7-free-class/2023-07-27/
LOCATION:UU Wausau\, 504 Grant Street\, Wausau\, WI\, 54403\, United States
CATEGORIES:Locally Led Events
ATTACH;FMTTYPE=image/jpeg:https://uuwausau.org/wp-content/uploads/2023/07/UU-Wausau-RE1.jpg
GEO:44.96241;-89.62461
X-APPLE-STRUCTURED-LOCATION;VALUE=URI;X-ADDRESS=UU Wausau 504 Grant Street Wausau WI 54403 United States;X-APPLE-RADIUS=500;X-TITLE=504 Grant Street:geo:-89.62461,44.96241
END:VEVENT
END:VCALENDAR