BEGIN:VCALENDAR
VERSION:2.0
PRODID:-//UU Wausau - ECPv6.15.20//NONSGML v1.0//EN
CALSCALE:GREGORIAN
METHOD:PUBLISH
X-WR-CALNAME:UU Wausau
X-ORIGINAL-URL:https://uuwausau.org
X-WR-CALDESC:Events for UU Wausau
REFRESH-INTERVAL;VALUE=DURATION:PT1H
X-Robots-Tag:noindex
X-PUBLISHED-TTL:PT1H
BEGIN:VTIMEZONE
TZID:America/Chicago
BEGIN:DAYLIGHT
TZOFFSETFROM:-0600
TZOFFSETTO:-0500
TZNAME:CDT
DTSTART:20250309T080000
END:DAYLIGHT
BEGIN:STANDARD
TZOFFSETFROM:-0500
TZOFFSETTO:-0600
TZNAME:CST
DTSTART:20251102T070000
END:STANDARD
BEGIN:DAYLIGHT
TZOFFSETFROM:-0600
TZOFFSETTO:-0500
TZNAME:CDT
DTSTART:20260308T080000
END:DAYLIGHT
BEGIN:STANDARD
TZOFFSETFROM:-0500
TZOFFSETTO:-0600
TZNAME:CST
DTSTART:20261101T070000
END:STANDARD
BEGIN:DAYLIGHT
TZOFFSETFROM:-0600
TZOFFSETTO:-0500
TZNAME:CDT
DTSTART:20270314T080000
END:DAYLIGHT
BEGIN:STANDARD
TZOFFSETFROM:-0500
TZOFFSETTO:-0600
TZNAME:CST
DTSTART:20271107T070000
END:STANDARD
END:VTIMEZONE
BEGIN:VEVENT
DTSTART;TZID=America/Chicago:20260419T103000
DTEND;TZID=America/Chicago:20260419T113000
DTSTAMP:20260421T031113
CREATED:20250814T223456Z
LAST-MODIFIED:20260314T233748Z
UID:10009010-1776594600-1776598200@uuwausau.org
SUMMARY:Youth Religious Education
DESCRIPTION:Youth Group – Value Quest: Exploring What Matters Most\n\n\n\n\n\n\n\nThis year\, our youth will explore the values they chose as the most important to them – Adventure\, Honesty\, Play & Humor\, Fun\, Conscience & Integrity\, Generosity\, Forgiveness\, Kindness & Respect\, Creativity\, Learning & Growing\, Family & Connections\, Peace\, Friendship\, and Fairness & Equity.Together\, they’ll dive into big questions: How can I make time for play and humor in my life? How can I live in a way that reflects my deepest values? What does it mean to live generously? How do you begin again in love? And through conversation\, service\, games\, and shared experiences\, they’ll discover how to carry these values with them as they move into adulthood. \n\n\n\nReach out to our Director of Religious Education to find out the theme for any particular week and learn how your youth can jump in and be part of the fun.
URL:https://uuwausau.org/event/youth-group/2026-04-19/
CATEGORIES:Children & Families,Youth Religious Education
ATTACH;FMTTYPE=image/png:https://uuwausau.org/wp-content/uploads/2023/10/Sr.-High-1.png
ORGANIZER;CN="Director of Religious Education":MAILTO:jessica@uuwausau.org
END:VEVENT
BEGIN:VEVENT
DTSTART;TZID=America/Chicago:20260419T103000
DTEND;TZID=America/Chicago:20260419T113000
DTSTAMP:20260421T031113
CREATED:20250814T233538Z
LAST-MODIFIED:20250820T142422Z
UID:10009069-1776594600-1776598200@uuwausau.org
SUMMARY:Children's Religious Education
DESCRIPTION:Sacred Words: A UU Kids’ Guide to Big Ideas\n\n\n\n\n\n\n\nThis year in Children’s RE\, we’ll embark on a playful\, thoughtful journey through some of life’s most meaningful ideas – Community\, Spirit\, Justice\, Love\, and Compassion. We’ll wonder together about the Sacred and the Values we hold dear\, explore the beauty of Awe\, Mystery\, and Hope\, and talk about what Forgiveness\, Mercy\, Generosity\, and Freedom can look like in our lives. We’ll learn about Pluralism\, Equity\, and Truth\, reflect on God(dess)\, and discover how Covenant\, Reverence\, Interdependence\, and Transformation connect us to each other and the wider world. Through our play-based model\, stories\, games\, art\, and community-building\, we’ll nurture curiosity\, empathy\, and the joy of growing together. \n\n\n\nNew children are always welcome. You can reach out to our Director of Religious Education to learn about the theme for any particular week and find out how to join in. Come explore\, create\, and wonder alongside us!
URL:https://uuwausau.org/event/childrens-religious-education-2/2026-04-19/
CATEGORIES:Children & Families,Children's RE
ATTACH;FMTTYPE=image/png:https://uuwausau.org/wp-content/uploads/2025/08/UU-Wausau-edited.png
ORGANIZER;CN="Director of Religious Education":MAILTO:jessica@uuwausau.org
END:VEVENT
BEGIN:VEVENT
DTSTART;TZID=America/Chicago:20260419T103000
DTEND;TZID=America/Chicago:20260419T120000
DTSTAMP:20260421T031113
CREATED:20260331T181449Z
LAST-MODIFIED:20260408T182204Z
UID:10010066-1776594600-1776600000@uuwausau.org
SUMMARY:Sunday Worship And Glorified Coffee Hour
DESCRIPTION:More to Come – The Rev. Brian Mason\, preaching\n\n\n\n \n\n\n\nEaster isn’t a day. It’s a season — fifty days\, in fact. Which means we’re not done. An ancient story: two people walking away from the worst week of their lives\, a stranger falling into step beside them. They don’t recognize him. Not yet. A sermon about recognition that arrives slowly\, the listening that turns out to be…well…everything. \n\n\n\n\n\n\n\n\n\nThis Month’s Ministry Partner\n\n\n\nOn the third weekend of each month\, our Sunday collection is given to a selected Ministry Partner who puts our mission statement into practice.  \n\n\n\nAs a congregation\, we continue to live our vision by volunteering at and donating to these influential community organizations and causes. \n\n\n\nThis month\, we’re proud to donate our Community Focus Collection to the Center for the Visual Arts.
URL:https://uuwausau.org/event/sunday-worship-and-glorified-coffee-hour-133/
LOCATION:UU Wausau\, 504 Grant Street\, Wausau\, WI\, 54403\, United States
CATEGORIES:Worship Services
ATTACH;FMTTYPE=image/jpeg:https://uuwausau.org/wp-content/uploads/2026/03/This-I-Apparently-Believe-YT-and-Featured-Graphic-4.19.26-scaled.jpg
GEO:44.96241;-89.62461
X-APPLE-STRUCTURED-LOCATION;VALUE=URI;X-ADDRESS=UU Wausau 504 Grant Street Wausau WI 54403 United States;X-APPLE-RADIUS=500;X-TITLE=504 Grant Street:geo:-89.62461,44.96241
END:VEVENT
END:VCALENDAR