BEGIN:VCALENDAR
VERSION:2.0
PRODID:-//UU Wausau - ECPv6.15.20//NONSGML v1.0//EN
CALSCALE:GREGORIAN
METHOD:PUBLISH
X-WR-CALNAME:UU Wausau
X-ORIGINAL-URL:https://uuwausau.org
X-WR-CALDESC:Events for UU Wausau
REFRESH-INTERVAL;VALUE=DURATION:PT1H
X-Robots-Tag:noindex
X-PUBLISHED-TTL:PT1H
BEGIN:VTIMEZONE
TZID:America/Chicago
BEGIN:DAYLIGHT
TZOFFSETFROM:-0600
TZOFFSETTO:-0500
TZNAME:CDT
DTSTART:20240310T080000
END:DAYLIGHT
BEGIN:STANDARD
TZOFFSETFROM:-0500
TZOFFSETTO:-0600
TZNAME:CST
DTSTART:20241103T070000
END:STANDARD
BEGIN:DAYLIGHT
TZOFFSETFROM:-0600
TZOFFSETTO:-0500
TZNAME:CDT
DTSTART:20250309T080000
END:DAYLIGHT
BEGIN:STANDARD
TZOFFSETFROM:-0500
TZOFFSETTO:-0600
TZNAME:CST
DTSTART:20251102T070000
END:STANDARD
BEGIN:DAYLIGHT
TZOFFSETFROM:-0600
TZOFFSETTO:-0500
TZNAME:CDT
DTSTART:20260308T080000
END:DAYLIGHT
BEGIN:STANDARD
TZOFFSETFROM:-0500
TZOFFSETTO:-0600
TZNAME:CST
DTSTART:20261101T070000
END:STANDARD
END:VTIMEZONE
BEGIN:VEVENT
DTSTART;TZID=America/Chicago:20251126T100000
DTEND;TZID=America/Chicago:20251126T120000
DTSTAMP:20260421T032034
CREATED:20251029T161007Z
LAST-MODIFIED:20251119T142739Z
UID:10003967-1764151200-1764158400@uuwausau.org
SUMMARY:CANCELED TODAY - Weekly Knitting Group
DESCRIPTION:Canceled for November 26\, 2025 \n\n\n\nDiscover the joy of knitting and the warmth of community by joining our Weekly Knitting Group. All are invited\, whether you’re a seasoned knitter or a complete novice. Bring your own knitting projects and let your creativity flow in the company of kindred spirits.  \n\n\n\nIt’s not just about crafting but forging connections\, sharing stories\, and supporting one another. Knitting has a way of bringing comfort\, both through the soothing rhythm of stitches and the bonds we build along the way.  \n\n\n\nCome join us in Walker Hall (upstairs) and be a part of this wonderful group\, where your skills and passion are celebrated\, and where every stitch is an opportunity to knit our community closer together.
URL:https://uuwausau.org/event/weekly-knitting-group-6/
LOCATION:UU Wausau\, 504 Grant Street\, Wausau\, WI\, 54403\, United States
CATEGORIES:Locally Led Events
ATTACH;FMTTYPE=image/jpeg:https://uuwausau.org/wp-content/uploads/2023/09/knitting-club.jpg
GEO:44.96241;-89.62461
X-APPLE-STRUCTURED-LOCATION;VALUE=URI;X-ADDRESS=UU Wausau 504 Grant Street Wausau WI 54403 United States;X-APPLE-RADIUS=500;X-TITLE=504 Grant Street:geo:-89.62461,44.96241
END:VEVENT
BEGIN:VEVENT
DTSTART;TZID=America/Chicago:20251126T100000
DTEND;TZID=America/Chicago:20251126T150000
DTSTAMP:20260421T032034
CREATED:20250825T175456Z
LAST-MODIFIED:20251029T161810Z
UID:10009104-1764151200-1764169200@uuwausau.org
SUMMARY:Blood Drive
DESCRIPTION:Today\, we’re rolling up our sleeves for an important cause—saving lives! With over 135 years of experience in humanitarian aid and more than 75 years of supplying blood to those in need\, the Red Cross is a trusted leader in this vital mission. \n\n\n\nGive blood during the We Give Blood Campaign and get a limited-edition Homefield T-shirt (while supplies last)\, and help your Big Ten team climb the leaderboard for a chance at $1 million for community health.   \n\n\n\nThank you for being an essential part of the First UU Church of Wausau community. We can’t wait to see you at the blood drive! Let’s make a difference together! \n\n\n\n\nVolunteer – Blood Drive\n\n\n\n\n \n\n\n\n\nGive Blood\n\n\n\n\n \n\n\n\nWalk-in’s are welcome\, but signing up for a spot is preferred.
URL:https://uuwausau.org/event/blood-drive-6/
CATEGORIES:Locally Led Events,Volunteering Opportunities
ATTACH;FMTTYPE=image/png:https://uuwausau.org/wp-content/uploads/2025/08/Blood-Drive-November-26-2025.png
END:VEVENT
BEGIN:VEVENT
DTSTART;TZID=America/Chicago:20251126T113000
DTEND;TZID=America/Chicago:20251126T123000
DTSTAMP:20260421T032034
CREATED:20251119T142831Z
LAST-MODIFIED:20251119T142832Z
UID:10009436-1764156600-1764160200@uuwausau.org
SUMMARY:CANCELED TODAY - Choir Practice · Alto Sectionals 🎵
DESCRIPTION:CANCELED for November 26\, 2025 \n\n\n\nIf you have had a secret wish to sing\, join the UU Wausau Choir. We always welcome new members. There are no formal auditions; just bring your good ears and a desire to sing harmoniously. \n\n\n\nEnjoy the practice-driven process of learning new music to share with the congregation on a three to four-week schedule. \n\n\n\nThe UU Wausau Choir meets every Wednesday in the Atrium from 6:30-8:00 p.m. The Tenor & Bass and Alto Sectionals have additional practices\, such as this one! \n\n\n\nFor additional information to participate\, contact Music Director Margaret Jerz margaret@uuwausau.org or call the church office at (715) 842-3697.
URL:https://uuwausau.org/event/choir-practice-%c2%b7-alto-sectionals-%f0%9f%8e%b5-9/
CATEGORIES:Musical Events
ATTACH;FMTTYPE=image/jpeg:https://uuwausau.org/wp-content/uploads/2023/09/sarah-dao-2zHGVCrdxHw-unsplash-scaled.jpg
END:VEVENT
BEGIN:VEVENT
DTSTART;TZID=America/Chicago:20251126T120000
DTEND;TZID=America/Chicago:20251126T130000
DTSTAMP:20260421T032034
CREATED:20230928T211131Z
LAST-MODIFIED:20230928T211134Z
UID:10004233-1764158400-1764162000@uuwausau.org
SUMMARY:The Noon Swoon
DESCRIPTION:You’re invited to be part of our weekly gathering\, where we dive into the thought-provoking world of The New Yorker magazine.  \n\n\n\nJoin us during the lunch hour as we unpack the pages of the previous week’s issue\, sparking vibrant discussions and sharing diverse perspectives.  \n\n\n\nWhether you’re a devoted reader or simply curious about engaging with insightful content\, this is the perfect opportunity to connect\, learn\, and expand your horizons.  \n\n\n\nBring your lunch\, your inquisitive spirit\, and a hunger for stimulating conversation. We look forward to welcoming you to this enriching experience.
URL:https://uuwausau.org/event/the-noon-swoon/2025-11-26/
LOCATION:UU Wausau\, 504 Grant Street\, Wausau\, WI\, 54403\, United States
CATEGORIES:Locally Led Events
ATTACH;FMTTYPE=image/png:https://uuwausau.org/wp-content/uploads/2023/09/UU-Wausau1-2.png
GEO:44.96241;-89.62461
X-APPLE-STRUCTURED-LOCATION;VALUE=URI;X-ADDRESS=UU Wausau 504 Grant Street Wausau WI 54403 United States;X-APPLE-RADIUS=500;X-TITLE=504 Grant Street:geo:-89.62461,44.96241
END:VEVENT
BEGIN:VEVENT
DTSTART;TZID=America/Chicago:20251126T183000
DTEND;TZID=America/Chicago:20251126T200000
DTSTAMP:20260421T032034
CREATED:20250910T155349Z
LAST-MODIFIED:20250910T155614Z
UID:10010324-1764181800-1764187200@uuwausau.org
SUMMARY:UU Choir Practice 🎵
DESCRIPTION:If you have had a secret wish to sing\, join the UU Wausau Choir. We always welcome new members. There are no formalauditions; just bring your good ears and a desire to sing harmoniously. \n \nThe UU Wausau Choir meets every Wednesday in the Atrium from 6:30-8:00 p.m. Enjoy the practice-driven process of learning new music to share with the congregation on a three to four-week schedule. \n \nFor additional information to participate\, contact Music Director Margaret Jerz margaret@uuwausau.orgor call the church office at (715) 842-3697.
URL:https://uuwausau.org/event/uu-choir-practice-%f0%9f%8e%b5-8/2025-11-26/
CATEGORIES:Musical Events
ATTACH;FMTTYPE=image/png:https://uuwausau.org/wp-content/uploads/2021/09/UU-Wausau-Social-1200-×-800-px1.png
END:VEVENT
BEGIN:VEVENT
DTSTART;TZID=America/Chicago:20251126T183000
DTEND;TZID=America/Chicago:20251126T200000
DTSTAMP:20260421T032034
CREATED:20251119T142911Z
LAST-MODIFIED:20251119T142913Z
UID:10009394-1764181800-1764187200@uuwausau.org
SUMMARY:CANCELED TODAY - UU Choir Practice 🎵
DESCRIPTION:CANCELED for November 26\, 2025 \n\n\nIf you have had a secret wish to sing\, join the UU Wausau Choir. We always welcome new members. There are no formalauditions; just bring your good ears and a desire to sing harmoniously. \n \nThe UU Wausau Choir meets every Wednesday in the Atrium from 6:30-8:00 p.m. Enjoy the practice-driven process of learning new music to share with the congregation on a three to four-week schedule. \n \nFor additional information to participate\, contact Music Director Margaret Jerz margaret@uuwausau.orgor call the church office at (715) 842-3697.
URL:https://uuwausau.org/event/uu-choir-practice-%f0%9f%8e%b5-7/
CATEGORIES:Musical Events
ATTACH;FMTTYPE=image/png:https://uuwausau.org/wp-content/uploads/2021/09/UU-Wausau-Social-1200-×-800-px1.png
END:VEVENT
END:VCALENDAR