BEGIN:VCALENDAR
VERSION:2.0
PRODID:-//UU Wausau - ECPv6.15.20//NONSGML v1.0//EN
CALSCALE:GREGORIAN
METHOD:PUBLISH
X-WR-CALNAME:UU Wausau
X-ORIGINAL-URL:https://uuwausau.org
X-WR-CALDESC:Events for UU Wausau
REFRESH-INTERVAL;VALUE=DURATION:PT1H
X-Robots-Tag:noindex
X-PUBLISHED-TTL:PT1H
BEGIN:VTIMEZONE
TZID:America/Chicago
BEGIN:DAYLIGHT
TZOFFSETFROM:-0600
TZOFFSETTO:-0500
TZNAME:CDT
DTSTART:20230312T080000
END:DAYLIGHT
BEGIN:STANDARD
TZOFFSETFROM:-0500
TZOFFSETTO:-0600
TZNAME:CST
DTSTART:20231105T070000
END:STANDARD
BEGIN:DAYLIGHT
TZOFFSETFROM:-0600
TZOFFSETTO:-0500
TZNAME:CDT
DTSTART:20240310T080000
END:DAYLIGHT
BEGIN:STANDARD
TZOFFSETFROM:-0500
TZOFFSETTO:-0600
TZNAME:CST
DTSTART:20241103T070000
END:STANDARD
BEGIN:DAYLIGHT
TZOFFSETFROM:-0600
TZOFFSETTO:-0500
TZNAME:CDT
DTSTART:20250309T080000
END:DAYLIGHT
BEGIN:STANDARD
TZOFFSETFROM:-0500
TZOFFSETTO:-0600
TZNAME:CST
DTSTART:20251102T070000
END:STANDARD
END:VTIMEZONE
BEGIN:VEVENT
DTSTART;TZID=America/Chicago:20240730T180000
DTEND;TZID=America/Chicago:20240730T210000
DTSTAMP:20260424T073039
CREATED:20240701T142100Z
LAST-MODIFIED:20240718T145206Z
UID:10007345-1722362400-1722373200@uuwausau.org
SUMMARY:Nature's Imprint: Eco Printing Art
DESCRIPTION:Art is the harvest of the soul\, cultivated from the seeds of nature and the cycles of the seasons. \nunknown\n\n\n\nAdults and Senior High youth are invited to join us for an evening celebrating the abundance of the season with a special art event\, Nature’s Imprint: Eco Printing Art & Dinner. This gathering combines the beauty of nature\, the joy of creative spiritual practices\, and the delight of community and a shared meal. \n\n\n\nYou’ll learn how to harness the vibrant colors and intricate patterns found in leaves\, flowers\, and other botanical elements through eco printing\, an art form that uses natural materials to create stunning prints on fabric and paper. No prior experience is necessary – just bring your enthusiasm and a sense of wonder! \n\n\n\nWe’ll provide dinner\, brief tutorials\, and materials to get you started\, but participants are also invited to bring materials from home to use or share. \n\n\n\nSuggested Items: \n\n\n\n\nLeaves (especially those rich in tannins): blackberry\, maple\, oak\, birch\, alder\, sumac\, walnut\, eucalyptus\, rose\, ferns\n\n\n\nFlowers: catmint\, marigolds\, coreopsis\, calendula\, pansies\, rose\, rudbeckia\, violets\, daisies\, petunias\, dandelions\n\n\n\nKitchen Scraps: Onion peels\, carrot tops\, cabbage leaves\n\n\n\nMallet\n\n\n\nRubber gloves\n\n\n\n\nRegistration for our Eco Printing Event is full. Please contact our Director of Religious Education to be added to the waitlist.
URL:https://uuwausau.org/event/natures-imprint/
CATEGORIES:Adult Religious Education,Youth Religious Education
ATTACH;FMTTYPE=image/png:https://uuwausau.org/wp-content/uploads/2024/07/Beige-minimalist-photo-collage-5.png
ORGANIZER;CN="Director of Religious Education":MAILTO:jessica@uuwausau.org
END:VEVENT
BEGIN:VEVENT
DTSTART;TZID=America/Chicago:20240730T183000
DTEND;TZID=America/Chicago:20240730T203000
DTSTAMP:20260424T073039
CREATED:20231212T173416Z
LAST-MODIFIED:20240807T162705Z
UID:10005892-1722364200-1722371400@uuwausau.org
SUMMARY:Qi Gong · Free Class
DESCRIPTION:Join teacher Larry Riddle and others in our beautiful atrium for stretching and Qi Gong. The stretching portion of the classes lasts for about 90 minutes and is required. Beginners welcome. Wear loose-fitting clothes and flat tennis shoes\, if you have them. Classes are free and open to the public.
URL:https://uuwausau.org/event/qi-gong-%c2%b7-free-class-2/2024-07-30/
LOCATION:UU Wausau\, 504 Grant Street\, Wausau\, WI\, 54403\, United States
CATEGORIES:Locally Led Events
ATTACH;FMTTYPE=image/jpeg:https://uuwausau.org/wp-content/uploads/2023/04/DSC_0739-scaled.jpg
GEO:44.96241;-89.62461
X-APPLE-STRUCTURED-LOCATION;VALUE=URI;X-ADDRESS=UU Wausau 504 Grant Street Wausau WI 54403 United States;X-APPLE-RADIUS=500;X-TITLE=504 Grant Street:geo:-89.62461,44.96241
END:VEVENT
END:VCALENDAR